BEGIN:VCALENDAR
VERSION:2.0
PRODID:-// - ECPv6.15.17//NONSGML v1.0//EN
CALSCALE:GREGORIAN
METHOD:PUBLISH
X-ORIGINAL-URL:https://cela.com.co
X-WR-CALDESC:Eventos para 
REFRESH-INTERVAL;VALUE=DURATION:PT1H
X-Robots-Tag:noindex
X-PUBLISHED-TTL:PT1H
BEGIN:VTIMEZONE
TZID:America/New_York
BEGIN:DAYLIGHT
TZOFFSETFROM:-0500
TZOFFSETTO:-0400
TZNAME:EDT
DTSTART:20250309T070000
END:DAYLIGHT
BEGIN:STANDARD
TZOFFSETFROM:-0400
TZOFFSETTO:-0500
TZNAME:EST
DTSTART:20251102T060000
END:STANDARD
BEGIN:DAYLIGHT
TZOFFSETFROM:-0500
TZOFFSETTO:-0400
TZNAME:EDT
DTSTART:20260308T070000
END:DAYLIGHT
BEGIN:STANDARD
TZOFFSETFROM:-0400
TZOFFSETTO:-0500
TZNAME:EST
DTSTART:20261101T060000
END:STANDARD
BEGIN:DAYLIGHT
TZOFFSETFROM:-0500
TZOFFSETTO:-0400
TZNAME:EDT
DTSTART:20270314T070000
END:DAYLIGHT
BEGIN:STANDARD
TZOFFSETFROM:-0400
TZOFFSETTO:-0500
TZNAME:EST
DTSTART:20271107T060000
END:STANDARD
END:VTIMEZONE
BEGIN:VEVENT
DTSTART;TZID=America/New_York:20260420T190000
DTEND;TZID=America/New_York:20260420T200000
DTSTAMP:20260420T151640
CREATED:20260420T000025Z
LAST-MODIFIED:20260420T000025Z
UID:2278-1776711600-1776715200@cela.com.co
SUMMARY:Educando el Alma: Respuestas para El Alma.  Edición conmemorativa
DESCRIPTION:¿Por qué el estudio espírita es la brújula que tu vida necesita? \nEn el trajín de la vida moderna\, es fácil perder el norte. Corremos tras el éxito\, la estabilidad y el reconocimiento\, pero a menudo llegamos a la meta con una sensación de vacío inexplicable. Es ahí donde surge la voz del alma\, preguntando por el sentido real de nuestra existencia. Con motivo del Día de los Espíritas\, presentamos nuestra edición conmemorativa: «Respuestas para el alma»\, un espacio diseñado para quienes no se conforman con explicaciones superficiales. \nAhondar en el conocimiento espírita no es un ejercicio meramente intelectual; es una necesidad de supervivencia espiritual. Al estudiar las bases de la doctrina\, comprendemos que la vida es una escuela continua\, que los lazos de amor no se rompen con la tumba y que cada uno de nosotros es responsable de su propia evolución. Este conocimiento nos quita el peso de la culpa y nos entrega la herramienta del libre albedrío consciente. \nTe invitamos a dejar de lado los prejuicios y a permitirte una fe que razona\, que cuestiona y que\, finalmente\, consuela. No se trata de creer ciegamente\, sino de comprender las leyes naturales que rigen el universo. Al profundizar en este estudio\, no solo encontrarás respuestas a tus dudas más antiguas\, sino que hallarás la paz que surge de saber que el universo es justo\, que Dios es amor y que nuestro destino final es la perfección. \n¿Estás listo para transformar tu visión del mundo y de ti mismo? \nAcompáñanos en esta edición conmemorativa y permítele a tu alma encontrar el refugio y la claridad que tanto ha buscado. El conocimiento es el primer paso hacia la verdadera libertad.
URL:https://cela.com.co/index.php/eventos/educando-el-alma-respuestas-para-el-alma-edicion-conmemorativa/
LOCATION:Centro Espírita Luz de Amor\, Cra 38 # 34 - 88\, Bucaramanga\, Santander\, Colombia
CATEGORIES:Estudios
ATTACH;FMTTYPE=image/jpeg:https://cela.com.co/wp-content/uploads/2026/04/15-abril-1.jpg
ORGANIZER;CN="Centro Esp%C3%ADrita Luz de Amor":MAILTO:info@cela.com.co
END:VEVENT
END:VCALENDAR